BEGIN:VCALENDAR
VERSION:2.0
PRODID:-//Naturtheater Grötzingen - ECPv6.15.20//NONSGML v1.0//EN
CALSCALE:GREGORIAN
METHOD:PUBLISH
X-WR-CALNAME:Naturtheater Grötzingen
X-ORIGINAL-URL:https://naturtheater-groetzingen.de
X-WR-CALDESC:Veranstaltungen für Naturtheater Grötzingen
REFRESH-INTERVAL;VALUE=DURATION:PT1H
X-Robots-Tag:noindex
X-PUBLISHED-TTL:PT1H
BEGIN:VTIMEZONE
TZID:Europe/Berlin
BEGIN:DAYLIGHT
TZOFFSETFROM:+0100
TZOFFSETTO:+0200
TZNAME:CEST
DTSTART:20250330T010000
END:DAYLIGHT
BEGIN:STANDARD
TZOFFSETFROM:+0200
TZOFFSETTO:+0100
TZNAME:CET
DTSTART:20251026T010000
END:STANDARD
BEGIN:DAYLIGHT
TZOFFSETFROM:+0100
TZOFFSETTO:+0200
TZNAME:CEST
DTSTART:20260329T010000
END:DAYLIGHT
BEGIN:STANDARD
TZOFFSETFROM:+0200
TZOFFSETTO:+0100
TZNAME:CET
DTSTART:20261025T010000
END:STANDARD
BEGIN:DAYLIGHT
TZOFFSETFROM:+0100
TZOFFSETTO:+0200
TZNAME:CEST
DTSTART:20270328T010000
END:DAYLIGHT
BEGIN:STANDARD
TZOFFSETFROM:+0200
TZOFFSETTO:+0100
TZNAME:CET
DTSTART:20271031T010000
END:STANDARD
END:VTIMEZONE
BEGIN:VEVENT
DTSTART;TZID=Europe/Berlin:20260725T203000
DTEND;TZID=Europe/Berlin:20260725T223000
DTSTAMP:20260425T230050
CREATED:20260204T115117Z
LAST-MODIFIED:20260422T082538Z
UID:10000080-1785011400-1785018600@naturtheater-groetzingen.de
SUMMARY:Die 3 Musketiere
DESCRIPTION:Einer für alle\, alle für einen! \nEin Schlachtruf\, den fast jeder kennt – und der heute aktueller ist denn je. \nIntrigen\, Helden und natürlich ein gehöriger Schuss Amour: Auf kokett-komödiantische Weise schicken wir den jungen Draufgänger d’Artagnan nach Paris. Dort begegnet er seinen neuen Freunden – den unzertrennlichen\, aber ausgesprochen eigenwilligen Musketieren Athos\, Porthos und Aramis. \nAngetrieben von seiner großen Liebe zu Constance und geblendet von den trügerischen Reizen der Lady de Winter stolpert d’Artagnan von einer höchst unangenehmen Situation in die nächste. Große Gefühle treffen auf noch größere Egos – und während Frankreichs Schicksal angeblich auf dem Spiel steht\, sind unsere Helden vor allem mit sich selbst beschäftigt. \nEs wird gefochten\, geflirtet und fabuliert\, dass die Federn fliegen. Aus dem berühmten Schlachtruf wird an diesem Abend: \n„Einer für alle\, alle mit Humor!“ \nTrainieren Sie Ihre Lachmuskeln und begleiten Sie unsere Musketiere auf ein ebenso rasantes wie vergnügliches Abenteuer. \nPremiere 13. Juni 2026 | Spieldauer ca. 2h inkl. Pause \nRegie Jürgen Lingmann | Für die Bühne eingerichtet von Frank Pinkus \nAufführungsrechte AHN & SIMROCK Bühnen- und Musikverlag GmbH\, Hamburg \nHier geht es zur Ticketbuchung über reservix!
URL:https://naturtheater-groetzingen.de/event/die-3-musketiere-9/
LOCATION:Naturtheater Grötzingen\, Alte Poststr. 18\, Aichtal Grötzingen\, 72631
CATEGORIES:Aufführungen des Naturtheaters,Theater
ATTACH;FMTTYPE=image/jpeg:https://naturtheater-groetzingen.de/wp-content/uploads/2026/02/2025_11_titel_Musketiere.jpg
ORGANIZER;CN="Naturtheater Gr%C3%B6tzingen e. V.":MAILTO:info@naturtheater-groetzingen.de
END:VEVENT
BEGIN:VEVENT
DTSTART;TZID=Europe/Berlin:20260726T150000
DTEND;TZID=Europe/Berlin:20260726T170000
DTSTAMP:20260425T230050
CREATED:20260204T100234Z
LAST-MODIFIED:20260308T195216Z
UID:10000050-1785078000-1785085200@naturtheater-groetzingen.de
SUMMARY:Der Zauberer von Oz
DESCRIPTION:Ein gewaltiger Wirbelsturm trägt das Mädchen Dorothee in das magische Land Oz. Verzweifelt macht sie sich auf den Weg in die Smaragdenstadt\, um den großen Zauberer von Oz zu bitten\, ihr die Rückkehr nach Hause zu ermöglichen. \nAuf dem Weg in die wundersame Stadt begegnet ihr eine Vogelscheuche\, die gerne Verstand hätte\, ein Holzfäller aus Blech\, der von einem Herz träumt und ein Löwe\, der sehr gerne Mut hätte. Alle schließen sich Dorothee an und hoffen auf die Hilfe des großen Zauberers. \nDoch bevor der Zauberer von Oz bereit ist\, den Gefährten zu helfen\, verlangt er von ihnen … \nBegleite Dorothee und ihre Freunde auf einer wunderlichen Reise voller Abenteuer und Freundschaften\, mit einem großen Scharlatan\, einigen Hexen\, Mümmlern und ganz viel Spaß … \n  \n1900 brachte der Schriftsteller Lyman Frank Baum das Kinderbuch „The Wonderful Wizard of Oz“ heraus. Für Amerika ist „Der Zauberer von Oz“ das\, was „Alice im Wunderland“ für England bedeutet. Vor allem die Verfilmung aus dem Jahr 1939 mit Judy Garland als „Dorothy“ trug zu dem großen Bekanntheitsgrad der Erzählung bei. Die erste Übersetzung in deutscher Sprache erschien allerdings erst 1940 in der Schweiz. \n  \nPremiere 14. Juni 2026 | Spieldauer ca. 2h inkl. Pause\nKinder- und Familienstück | Altersempfehlung ab 5 Jahren \nRegie und Text Marion Jeiter \nHier geht es zur Ticketbuchung über reservix!
URL:https://naturtheater-groetzingen.de/event/der-zauberer-von-oz-14/
LOCATION:Naturtheater Grötzingen\, Alte Poststr. 18\, Aichtal Grötzingen\, 72631
CATEGORIES:Aufführungen des Naturtheaters,Theater
ATTACH;FMTTYPE=image/jpeg:https://naturtheater-groetzingen.de/wp-content/uploads/2026/02/2025_11_titel_Oz_v2.jpg
ORGANIZER;CN="Naturtheater Gr%C3%B6tzingen e. V.":MAILTO:info@naturtheater-groetzingen.de
END:VEVENT
BEGIN:VEVENT
DTSTART;TZID=Europe/Berlin:20260731T203000
DTEND;TZID=Europe/Berlin:20260731T203000
DTSTAMP:20260425T230050
CREATED:20260204T120256Z
LAST-MODIFIED:20260208T202613Z
UID:10000086-1785529800-1785529800@naturtheater-groetzingen.de
SUMMARY:Eberdinger Sommertheater - Was man von hier aus sehen kann
DESCRIPTION:Das Eberdinger Sommertheater entführt Sie in ein Dorf in der Provinz – irgendwo im Westerwald… \nDie alte Selma kann den Tod voraussehen. Immer wenn ihr im Traum ein Okapi erscheint\, stirbt am nächsten Tag jemand im Dorf. Unklar ist allerdings\, wen es treffen wird.\nWas die skurrilen Bewohner in den folgenden Stunden fürchten\, was sie blindlings wagen\, gestehen oder verschwinden lassen – aber auch die Liebe und deren Vorzeichen\, Freundschaft und Hoffnung – verkörpert das Eberdinger Sommertheater nach dem Bestseller-Roman von Mariana Leky. \nFreuen Sie sich auf einen ansprechenden und tiefsinnigen Theaterabend im Naturtheater Grötzingen. \nHier geht es zur Ticketbuchung über reservix!
URL:https://naturtheater-groetzingen.de/event/eberdinger-sommertheater-was-man-von-hier-aus-sehen-kann/
LOCATION:Naturtheater Grötzingen\, Alte Poststr. 18\, Aichtal Grötzingen\, 72631
CATEGORIES:Gastspiel,Theater
ATTACH;FMTTYPE=image/jpeg:https://naturtheater-groetzingen.de/wp-content/uploads/2026/02/2025_11_titel_ESoThe.jpg
ORGANIZER;CN="Naturtheater Gr%C3%B6tzingen e. V.":MAILTO:info@naturtheater-groetzingen.de
END:VEVENT
BEGIN:VEVENT
DTSTART;TZID=Europe/Berlin:20260801T203000
DTEND;TZID=Europe/Berlin:20260801T223000
DTSTAMP:20260425T230050
CREATED:20260204T115156Z
LAST-MODIFIED:20260422T082631Z
UID:10000081-1785616200-1785623400@naturtheater-groetzingen.de
SUMMARY:Die 3 Musketiere
DESCRIPTION:Einer für alle\, alle für einen! \nEin Schlachtruf\, den fast jeder kennt – und der heute aktueller ist denn je. \nIntrigen\, Helden und natürlich ein gehöriger Schuss Amour: Auf kokett-komödiantische Weise schicken wir den jungen Draufgänger d’Artagnan nach Paris. Dort begegnet er seinen neuen Freunden – den unzertrennlichen\, aber ausgesprochen eigenwilligen Musketieren Athos\, Porthos und Aramis. \nAngetrieben von seiner großen Liebe zu Constance und geblendet von den trügerischen Reizen der Lady de Winter stolpert d’Artagnan von einer höchst unangenehmen Situation in die nächste. Große Gefühle treffen auf noch größere Egos – und während Frankreichs Schicksal angeblich auf dem Spiel steht\, sind unsere Helden vor allem mit sich selbst beschäftigt. \nEs wird gefochten\, geflirtet und fabuliert\, dass die Federn fliegen. Aus dem berühmten Schlachtruf wird an diesem Abend: \n„Einer für alle\, alle mit Humor!“ \nTrainieren Sie Ihre Lachmuskeln und begleiten Sie unsere Musketiere auf ein ebenso rasantes wie vergnügliches Abenteuer. \nPremiere 13. Juni 2026 | Spieldauer ca. 2h inkl. Pause \nRegie Jürgen Lingmann | Für die Bühne eingerichtet von Frank Pinkus \nAufführungsrechte AHN & SIMROCK Bühnen- und Musikverlag GmbH\, Hamburg \nHier geht es zur Ticketbuchung über reservix!
URL:https://naturtheater-groetzingen.de/event/die-3-musketiere-10/
LOCATION:Naturtheater Grötzingen\, Alte Poststr. 18\, Aichtal Grötzingen\, 72631
CATEGORIES:Aufführungen des Naturtheaters,Theater
ATTACH;FMTTYPE=image/jpeg:https://naturtheater-groetzingen.de/wp-content/uploads/2026/02/2025_11_titel_Musketiere.jpg
ORGANIZER;CN="Naturtheater Gr%C3%B6tzingen e. V.":MAILTO:info@naturtheater-groetzingen.de
END:VEVENT
BEGIN:VEVENT
DTSTART;TZID=Europe/Berlin:20260802T150000
DTEND;TZID=Europe/Berlin:20260802T170000
DTSTAMP:20260425T230050
CREATED:20260204T100253Z
LAST-MODIFIED:20260308T195255Z
UID:10000051-1785682800-1785690000@naturtheater-groetzingen.de
SUMMARY:Der Zauberer von Oz
DESCRIPTION:Ein gewaltiger Wirbelsturm trägt das Mädchen Dorothee in das magische Land Oz. Verzweifelt macht sie sich auf den Weg in die Smaragdenstadt\, um den großen Zauberer von Oz zu bitten\, ihr die Rückkehr nach Hause zu ermöglichen. \nAuf dem Weg in die wundersame Stadt begegnet ihr eine Vogelscheuche\, die gerne Verstand hätte\, ein Holzfäller aus Blech\, der von einem Herz träumt und ein Löwe\, der sehr gerne Mut hätte. Alle schließen sich Dorothee an und hoffen auf die Hilfe des großen Zauberers. \nDoch bevor der Zauberer von Oz bereit ist\, den Gefährten zu helfen\, verlangt er von ihnen … \nBegleite Dorothee und ihre Freunde auf einer wunderlichen Reise voller Abenteuer und Freundschaften\, mit einem großen Scharlatan\, einigen Hexen\, Mümmlern und ganz viel Spaß … \n  \n1900 brachte der Schriftsteller Lyman Frank Baum das Kinderbuch „The Wonderful Wizard of Oz“ heraus. Für Amerika ist „Der Zauberer von Oz“ das\, was „Alice im Wunderland“ für England bedeutet. Vor allem die Verfilmung aus dem Jahr 1939 mit Judy Garland als „Dorothy“ trug zu dem großen Bekanntheitsgrad der Erzählung bei. Die erste Übersetzung in deutscher Sprache erschien allerdings erst 1940 in der Schweiz. \n  \nPremiere 14. Juni 2026 | Spieldauer ca. 2h inkl. Pause\nKinder- und Familienstück | Altersempfehlung ab 5 Jahren \nRegie und Text Marion Jeiter \n  \nHier geht es zur Ticketbuchung über reservix!
URL:https://naturtheater-groetzingen.de/event/der-zauberer-von-oz-15/
LOCATION:Naturtheater Grötzingen\, Alte Poststr. 18\, Aichtal Grötzingen\, 72631
CATEGORIES:Aufführungen des Naturtheaters,Theater
ATTACH;FMTTYPE=image/jpeg:https://naturtheater-groetzingen.de/wp-content/uploads/2026/02/2025_11_titel_Oz_v2.jpg
ORGANIZER;CN="Naturtheater Gr%C3%B6tzingen e. V.":MAILTO:info@naturtheater-groetzingen.de
END:VEVENT
BEGIN:VEVENT
DTSTART;TZID=Europe/Berlin:20260807T150000
DTEND;TZID=Europe/Berlin:20260807T170000
DTSTAMP:20260425T230050
CREATED:20260204T091023Z
LAST-MODIFIED:20260308T195345Z
UID:10000055-1786114800-1786122000@naturtheater-groetzingen.de
SUMMARY:Der Zauberer von Oz - für Ferienlager und freier Verkauf
DESCRIPTION:Ein gewaltiger Wirbelsturm trägt das Mädchen Dorothee in das magische Land Oz. Verzweifelt macht sie sich auf den Weg in die Smaragdenstadt\, um den großen Zauberer von Oz zu bitten\, ihr die Rückkehr nach Hause zu ermöglichen. \nAuf dem Weg in die wundersame Stadt begegnet ihr eine Vogelscheuche\, die gerne Verstand hätte\, ein Holzfäller aus Blech\, der von einem Herz träumt und ein Löwe\, der sehr gerne Mut hätte. Alle schließen sich Dorothee an und hoffen auf die Hilfe des großen Zauberers. \nDoch bevor der Zauberer von Oz bereit ist\, den Gefährten zu helfen\, verlangt er von ihnen … \nBegleite Dorothee und ihre Freunde auf einer wunderlichen Reise voller Abenteuer und Freundschaften\, mit einem großen Scharlatan\, einigen Hexen\, Mümmlern und ganz viel Spaß … \n  \n1900 brachte der Schriftsteller Lyman Frank Baum das Kinderbuch „The Wonderful Wizard of Oz“ heraus. Für Amerika ist „Der Zauberer von Oz“ das\, was „Alice im Wunderland“ für England bedeutet. Vor allem die Verfilmung aus dem Jahr 1939 mit Judy Garland als „Dorothy“ trug zu dem großen Bekanntheitsgrad der Erzählung bei. Die erste Übersetzung in deutscher Sprache erschien allerdings erst 1940 in der Schweiz. \n  \nPremiere 14. Juni 2026 | Spieldauer ca. 2h inkl. Pause\nKinder- und Familienstück | Altersempfehlung ab 5 Jahren \nRegie und Text Marion Jeiter \nHier geht es zur Ticketbuchung über reservix!
URL:https://naturtheater-groetzingen.de/event/der-zauberer-von-oz-3/
LOCATION:Naturtheater Grötzingen\, Alte Poststr. 18\, Aichtal Grötzingen\, 72631
CATEGORIES:Aufführungen des Naturtheaters,Theater
ATTACH;FMTTYPE=image/jpeg:https://naturtheater-groetzingen.de/wp-content/uploads/2026/02/2025_11_titel_Oz_v2.jpg
ORGANIZER;CN="Naturtheater Gr%C3%B6tzingen e. V.":MAILTO:info@naturtheater-groetzingen.de
END:VEVENT
BEGIN:VEVENT
DTSTART;TZID=Europe/Berlin:20260808T203000
DTEND;TZID=Europe/Berlin:20260808T223000
DTSTAMP:20260425T230050
CREATED:20260204T115259Z
LAST-MODIFIED:20260422T083151Z
UID:10000082-1786221000-1786228200@naturtheater-groetzingen.de
SUMMARY:Die 3 Musketiere
DESCRIPTION:Einer für alle\, alle für einen! \nEin Schlachtruf\, den fast jeder kennt – und der heute aktueller ist denn je. \nIntrigen\, Helden und natürlich ein gehöriger Schuss Amour: Auf kokett-komödiantische Weise schicken wir den jungen Draufgänger d’Artagnan nach Paris. Dort begegnet er seinen neuen Freunden – den unzertrennlichen\, aber ausgesprochen eigenwilligen Musketieren Athos\, Porthos und Aramis. \nAngetrieben von seiner großen Liebe zu Constance und geblendet von den trügerischen Reizen der Lady de Winter stolpert d’Artagnan von einer höchst unangenehmen Situation in die nächste. Große Gefühle treffen auf noch größere Egos – und während Frankreichs Schicksal angeblich auf dem Spiel steht\, sind unsere Helden vor allem mit sich selbst beschäftigt. \nEs wird gefochten\, geflirtet und fabuliert\, dass die Federn fliegen. Aus dem berühmten Schlachtruf wird an diesem Abend: \n„Einer für alle\, alle mit Humor!“ \nTrainieren Sie Ihre Lachmuskeln und begleiten Sie unsere Musketiere auf ein ebenso rasantes wie vergnügliches Abenteuer. \nPremiere 13. Juni 2026 | Spieldauer ca. 2h inkl. Pause \nRegie Jürgen Lingmann | Für die Bühne eingerichtet von Frank Pinkus \nAufführungsrechte AHN & SIMROCK Bühnen- und Musikverlag GmbH\, Hamburg \nHier geht es zur Ticketbuchung über reservix!
URL:https://naturtheater-groetzingen.de/event/die-3-musketiere-11/
LOCATION:Naturtheater Grötzingen\, Alte Poststr. 18\, Aichtal Grötzingen\, 72631
CATEGORIES:Aufführungen des Naturtheaters,Theater
ATTACH;FMTTYPE=image/jpeg:https://naturtheater-groetzingen.de/wp-content/uploads/2026/02/2025_11_titel_Musketiere.jpg
ORGANIZER;CN="Naturtheater Gr%C3%B6tzingen e. V.":MAILTO:info@naturtheater-groetzingen.de
END:VEVENT
BEGIN:VEVENT
DTSTART;TZID=Europe/Berlin:20260809T150000
DTEND;TZID=Europe/Berlin:20260809T170000
DTSTAMP:20260425T230050
CREATED:20260204T100309Z
LAST-MODIFIED:20260308T195628Z
UID:10000052-1786287600-1786294800@naturtheater-groetzingen.de
SUMMARY:Der Zauberer von Oz
DESCRIPTION:Ein gewaltiger Wirbelsturm trägt das Mädchen Dorothee in das magische Land Oz. Verzweifelt macht sie sich auf den Weg in die Smaragdenstadt\, um den großen Zauberer von Oz zu bitten\, ihr die Rückkehr nach Hause zu ermöglichen. \nAuf dem Weg in die wundersame Stadt begegnet ihr eine Vogelscheuche\, die gerne Verstand hätte\, ein Holzfäller aus Blech\, der von einem Herz träumt und ein Löwe\, der sehr gerne Mut hätte. Alle schließen sich Dorothee an und hoffen auf die Hilfe des großen Zauberers. \nDoch bevor der Zauberer von Oz bereit ist\, den Gefährten zu helfen\, verlangt er von ihnen … \nBegleite Dorothee und ihre Freunde auf einer wunderlichen Reise voller Abenteuer und Freundschaften\, mit einem großen Scharlatan\, einigen Hexen\, Mümmlern und ganz viel Spaß … \n  \n1900 brachte der Schriftsteller Lyman Frank Baum das Kinderbuch „The Wonderful Wizard of Oz“ heraus. Für Amerika ist „Der Zauberer von Oz“ das\, was „Alice im Wunderland“ für England bedeutet. Vor allem die Verfilmung aus dem Jahr 1939 mit Judy Garland als „Dorothy“ trug zu dem großen Bekanntheitsgrad der Erzählung bei. Die erste Übersetzung in deutscher Sprache erschien allerdings erst 1940 in der Schweiz. \n  \nPremiere 14. Juni 2026 | Spieldauer ca. 2h inkl. Pause\nKinder- und Familienstück | Altersempfehlung ab 5 Jahren \nRegie und Text Marion Jeiter \n  \nHier geht es zur Ticketbuchung über reservix!
URL:https://naturtheater-groetzingen.de/event/der-zauberer-von-oz-16/
LOCATION:Naturtheater Grötzingen\, Alte Poststr. 18\, Aichtal Grötzingen\, 72631
CATEGORIES:Aufführungen des Naturtheaters,Theater
ATTACH;FMTTYPE=image/jpeg:https://naturtheater-groetzingen.de/wp-content/uploads/2026/02/2025_11_titel_Oz_v2.jpg
ORGANIZER;CN="Naturtheater Gr%C3%B6tzingen e. V.":MAILTO:info@naturtheater-groetzingen.de
END:VEVENT
BEGIN:VEVENT
DTSTART;TZID=Europe/Berlin:20260814T203000
DTEND;TZID=Europe/Berlin:20260814T223000
DTSTAMP:20260425T230050
CREATED:20260204T092029Z
LAST-MODIFIED:20260308T195743Z
UID:10000067-1786739400-1786746600@naturtheater-groetzingen.de
SUMMARY:Der Zauberer von Oz - einzige Abendvorstellung
DESCRIPTION:Ein gewaltiger Wirbelsturm trägt das Mädchen Dorothee in das magische Land Oz. Verzweifelt macht sie sich auf den Weg in die Smaragdenstadt\, um den großen Zauberer von Oz zu bitten\, ihr die Rückkehr nach Hause zu ermöglichen. \nAuf dem Weg in die wundersame Stadt begegnet ihr eine Vogelscheuche\, die gerne Verstand hätte\, ein Holzfäller aus Blech\, der von einem Herz träumt und ein Löwe\, der sehr gerne Mut hätte. Alle schließen sich Dorothee an und hoffen auf die Hilfe des großen Zauberers. \nDoch bevor der Zauberer von Oz bereit ist\, den Gefährten zu helfen\, verlangt er von ihnen … \nBegleite Dorothee und ihre Freunde auf einer wunderlichen Reise voller Abenteuer und Freundschaften\, mit einem großen Scharlatan\, einigen Hexen\, Mümmlern und ganz viel Spaß … \n  \n1900 brachte der Schriftsteller Lyman Frank Baum das Kinderbuch „The Wonderful Wizard of Oz“ heraus. Für Amerika ist „Der Zauberer von Oz“ das\, was „Alice im Wunderland“ für England bedeutet. Vor allem die Verfilmung aus dem Jahr 1939 mit Judy Garland als „Dorothy“ trug zu dem großen Bekanntheitsgrad der Erzählung bei. Die erste Übersetzung in deutscher Sprache erschien allerdings erst 1940 in der Schweiz. \n  \nPremiere 14. Juni 2026 | Spieldauer ca. 2h inkl. Pause\nKinder- und Familienstück | Altersempfehlung ab 5 Jahren \nRegie und Text Marion Jeiter \n  \nHier geht es zur Ticketbuchung über reservix!
URL:https://naturtheater-groetzingen.de/event/der-zauberer-von-oz-5/
LOCATION:Naturtheater Grötzingen\, Alte Poststr. 18\, Aichtal Grötzingen\, 72631
CATEGORIES:Aufführungen des Naturtheaters,Theater
ATTACH;FMTTYPE=image/jpeg:https://naturtheater-groetzingen.de/wp-content/uploads/2026/02/2025_11_titel_Oz_v2.jpg
ORGANIZER;CN="Naturtheater Gr%C3%B6tzingen e. V.":MAILTO:info@naturtheater-groetzingen.de
END:VEVENT
BEGIN:VEVENT
DTSTART;TZID=Europe/Berlin:20260815T203000
DTEND;TZID=Europe/Berlin:20260815T223000
DTSTAMP:20260425T230050
CREATED:20260204T115340Z
LAST-MODIFIED:20260422T083221Z
UID:10000083-1786825800-1786833000@naturtheater-groetzingen.de
SUMMARY:Die 3 Musketiere
DESCRIPTION:Einer für alle\, alle für einen! \nEin Schlachtruf\, den fast jeder kennt – und der heute aktueller ist denn je. \nIntrigen\, Helden und natürlich ein gehöriger Schuss Amour: Auf kokett-komödiantische Weise schicken wir den jungen Draufgänger d’Artagnan nach Paris. Dort begegnet er seinen neuen Freunden – den unzertrennlichen\, aber ausgesprochen eigenwilligen Musketieren Athos\, Porthos und Aramis. \nAngetrieben von seiner großen Liebe zu Constance und geblendet von den trügerischen Reizen der Lady de Winter stolpert d’Artagnan von einer höchst unangenehmen Situation in die nächste. Große Gefühle treffen auf noch größere Egos – und während Frankreichs Schicksal angeblich auf dem Spiel steht\, sind unsere Helden vor allem mit sich selbst beschäftigt. \nEs wird gefochten\, geflirtet und fabuliert\, dass die Federn fliegen. Aus dem berühmten Schlachtruf wird an diesem Abend: \n„Einer für alle\, alle mit Humor!“ \nTrainieren Sie Ihre Lachmuskeln und begleiten Sie unsere Musketiere auf ein ebenso rasantes wie vergnügliches Abenteuer. \nPremiere 13. Juni 2026 | Spieldauer ca. 2h inkl. Pause \nRegie Jürgen Lingmann | Für die Bühne eingerichtet von Frank Pinkus \nAufführungsrechte AHN & SIMROCK Bühnen- und Musikverlag GmbH\, Hamburg \nHier geht es zur Ticketbuchung über reservix!
URL:https://naturtheater-groetzingen.de/event/die-3-musketiere-12/
LOCATION:Naturtheater Grötzingen\, Alte Poststr. 18\, Aichtal Grötzingen\, 72631
CATEGORIES:Aufführungen des Naturtheaters,Theater
ATTACH;FMTTYPE=image/jpeg:https://naturtheater-groetzingen.de/wp-content/uploads/2026/02/2025_11_titel_Musketiere.jpg
ORGANIZER;CN="Naturtheater Gr%C3%B6tzingen e. V.":MAILTO:info@naturtheater-groetzingen.de
END:VEVENT
BEGIN:VEVENT
DTSTART;TZID=Europe/Berlin:20260816T150000
DTEND;TZID=Europe/Berlin:20260816T170000
DTSTAMP:20260425T230050
CREATED:20260204T100323Z
LAST-MODIFIED:20260308T195810Z
UID:10000053-1786892400-1786899600@naturtheater-groetzingen.de
SUMMARY:Der Zauberer von Oz
DESCRIPTION:Ein gewaltiger Wirbelsturm trägt das Mädchen Dorothee in das magische Land Oz. Verzweifelt macht sie sich auf den Weg in die Smaragdenstadt\, um den großen Zauberer von Oz zu bitten\, ihr die Rückkehr nach Hause zu ermöglichen. \nAuf dem Weg in die wundersame Stadt begegnet ihr eine Vogelscheuche\, die gerne Verstand hätte\, ein Holzfäller aus Blech\, der von einem Herz träumt und ein Löwe\, der sehr gerne Mut hätte. Alle schließen sich Dorothee an und hoffen auf die Hilfe des großen Zauberers. \nDoch bevor der Zauberer von Oz bereit ist\, den Gefährten zu helfen\, verlangt er von ihnen … \nBegleite Dorothee und ihre Freunde auf einer wunderlichen Reise voller Abenteuer und Freundschaften\, mit einem großen Scharlatan\, einigen Hexen\, Mümmlern und ganz viel Spaß … \n  \n1900 brachte der Schriftsteller Lyman Frank Baum das Kinderbuch „The Wonderful Wizard of Oz“ heraus. Für Amerika ist „Der Zauberer von Oz“ das\, was „Alice im Wunderland“ für England bedeutet. Vor allem die Verfilmung aus dem Jahr 1939 mit Judy Garland als „Dorothy“ trug zu dem großen Bekanntheitsgrad der Erzählung bei. Die erste Übersetzung in deutscher Sprache erschien allerdings erst 1940 in der Schweiz. \n  \nPremiere 14. Juni 2026 | Spieldauer ca. 2h inkl. Pause\nKinder- und Familienstück | Altersempfehlung ab 5 Jahren \nRegie und Text Marion Jeiter \nHier geht es zur Ticketbuchung über reservix!
URL:https://naturtheater-groetzingen.de/event/der-zauberer-von-oz-17/
LOCATION:Naturtheater Grötzingen\, Alte Poststr. 18\, Aichtal Grötzingen\, 72631
CATEGORIES:Aufführungen des Naturtheaters,Theater
ATTACH;FMTTYPE=image/jpeg:https://naturtheater-groetzingen.de/wp-content/uploads/2026/02/2025_11_titel_Oz_v2.jpg
ORGANIZER;CN="Naturtheater Gr%C3%B6tzingen e. V.":MAILTO:info@naturtheater-groetzingen.de
END:VEVENT
BEGIN:VEVENT
DTSTART;TZID=Europe/Berlin:20260821T203000
DTEND;TZID=Europe/Berlin:20260821T223000
DTSTAMP:20260425T230050
CREATED:20260204T115401Z
LAST-MODIFIED:20260422T083316Z
UID:10000084-1787344200-1787351400@naturtheater-groetzingen.de
SUMMARY:Die 3 Musketiere
DESCRIPTION:Einer für alle\, alle für einen! \nEin Schlachtruf\, den fast jeder kennt – und der heute aktueller ist denn je. \nIntrigen\, Helden und natürlich ein gehöriger Schuss Amour: Auf kokett-komödiantische Weise schicken wir den jungen Draufgänger d’Artagnan nach Paris. Dort begegnet er seinen neuen Freunden – den unzertrennlichen\, aber ausgesprochen eigenwilligen Musketieren Athos\, Porthos und Aramis. \nAngetrieben von seiner großen Liebe zu Constance und geblendet von den trügerischen Reizen der Lady de Winter stolpert d’Artagnan von einer höchst unangenehmen Situation in die nächste. Große Gefühle treffen auf noch größere Egos – und während Frankreichs Schicksal angeblich auf dem Spiel steht\, sind unsere Helden vor allem mit sich selbst beschäftigt. \nEs wird gefochten\, geflirtet und fabuliert\, dass die Federn fliegen. Aus dem berühmten Schlachtruf wird an diesem Abend: \n„Einer für alle\, alle mit Humor!“ \nTrainieren Sie Ihre Lachmuskeln und begleiten Sie unsere Musketiere auf ein ebenso rasantes wie vergnügliches Abenteuer. \nPremiere 13. Juni 2026 | Spieldauer ca. 2h inkl. Pause \nRegie Jürgen Lingmann | Für die Bühne eingerichtet von Frank Pinkus \nAufführungsrechte AHN & SIMROCK Bühnen- und Musikverlag GmbH\, Hamburg \nHier geht es zur Ticketbuchung über reservix!
URL:https://naturtheater-groetzingen.de/event/die-3-musketiere-13/
LOCATION:Naturtheater Grötzingen\, Alte Poststr. 18\, Aichtal Grötzingen\, 72631
CATEGORIES:Aufführungen des Naturtheaters,Theater
ATTACH;FMTTYPE=image/jpeg:https://naturtheater-groetzingen.de/wp-content/uploads/2026/02/2025_11_titel_Musketiere.jpg
ORGANIZER;CN="Naturtheater Gr%C3%B6tzingen e. V.":MAILTO:info@naturtheater-groetzingen.de
END:VEVENT
BEGIN:VEVENT
DTSTART;TZID=Europe/Berlin:20260822T203000
DTEND;TZID=Europe/Berlin:20260822T223000
DTSTAMP:20260425T230050
CREATED:20260204T115448Z
LAST-MODIFIED:20260422T083438Z
UID:10000085-1787430600-1787437800@naturtheater-groetzingen.de
SUMMARY:Die 3 Musketiere - letzte Vorstellung
DESCRIPTION:Einer für alle\, alle für einen! \nEin Schlachtruf\, den fast jeder kennt – und der heute aktueller ist denn je. \nIntrigen\, Helden und natürlich ein gehöriger Schuss Amour: Auf kokett-komödiantische Weise schicken wir den jungen Draufgänger d’Artagnan nach Paris. Dort begegnet er seinen neuen Freunden – den unzertrennlichen\, aber ausgesprochen eigenwilligen Musketieren Athos\, Porthos und Aramis. \nAngetrieben von seiner großen Liebe zu Constance und geblendet von den trügerischen Reizen der Lady de Winter stolpert d’Artagnan von einer höchst unangenehmen Situation in die nächste. Große Gefühle treffen auf noch größere Egos – und während Frankreichs Schicksal angeblich auf dem Spiel steht\, sind unsere Helden vor allem mit sich selbst beschäftigt. \nEs wird gefochten\, geflirtet und fabuliert\, dass die Federn fliegen. Aus dem berühmten Schlachtruf wird an diesem Abend: \n„Einer für alle\, alle mit Humor!“ \nTrainieren Sie Ihre Lachmuskeln und begleiten Sie unsere Musketiere auf ein ebenso rasantes wie vergnügliches Abenteuer. \nPremiere 13. Juni 2026 | Spieldauer ca. 2h inkl. Pause \nRegie Jürgen Lingmann | Für die Bühne eingerichtet von Frank Pinkus \nAufführungsrechte AHN & SIMROCK Bühnen- und Musikverlag GmbH\, Hamburg \nHier geht es zur Ticketbuchung über reservix!
URL:https://naturtheater-groetzingen.de/event/die-3-musketiere-14/
LOCATION:Naturtheater Grötzingen\, Alte Poststr. 18\, Aichtal Grötzingen\, 72631
CATEGORIES:Aufführungen des Naturtheaters,Theater
ATTACH;FMTTYPE=image/jpeg:https://naturtheater-groetzingen.de/wp-content/uploads/2026/02/2025_11_titel_Musketiere.jpg
ORGANIZER;CN="Naturtheater Gr%C3%B6tzingen e. V.":MAILTO:info@naturtheater-groetzingen.de
END:VEVENT
BEGIN:VEVENT
DTSTART;TZID=Europe/Berlin:20260823T150000
DTEND;TZID=Europe/Berlin:20260823T170000
DTSTAMP:20260425T230050
CREATED:20260204T100340Z
LAST-MODIFIED:20260308T195855Z
UID:10000054-1787497200-1787504400@naturtheater-groetzingen.de
SUMMARY:Der Zauberer von Oz - letzte Vorstellung
DESCRIPTION:Ein gewaltiger Wirbelsturm trägt das Mädchen Dorothee in das magische Land Oz. Verzweifelt macht sie sich auf den Weg in die Smaragdenstadt\, um den großen Zauberer von Oz zu bitten\, ihr die Rückkehr nach Hause zu ermöglichen. \nAuf dem Weg in die wundersame Stadt begegnet ihr eine Vogelscheuche\, die gerne Verstand hätte\, ein Holzfäller aus Blech\, der von einem Herz träumt und ein Löwe\, der sehr gerne Mut hätte. Alle schließen sich Dorothee an und hoffen auf die Hilfe des großen Zauberers. \nDoch bevor der Zauberer von Oz bereit ist\, den Gefährten zu helfen\, verlangt er von ihnen … \nBegleite Dorothee und ihre Freunde auf einer wunderlichen Reise voller Abenteuer und Freundschaften\, mit einem großen Scharlatan\, einigen Hexen\, Mümmlern und ganz viel Spaß … \n  \n1900 brachte der Schriftsteller Lyman Frank Baum das Kinderbuch „The Wonderful Wizard of Oz“ heraus. Für Amerika ist „Der Zauberer von Oz“ das\, was „Alice im Wunderland“ für England bedeutet. Vor allem die Verfilmung aus dem Jahr 1939 mit Judy Garland als „Dorothy“ trug zu dem großen Bekanntheitsgrad der Erzählung bei. Die erste Übersetzung in deutscher Sprache erschien allerdings erst 1940 in der Schweiz. \n  \nPremiere 14. Juni 2026 | Spieldauer ca. 2h inkl. Pause\nKinder- und Familienstück | Altersempfehlung ab 5 Jahren \nRegie und Text Marion Jeiter \nHier geht es zur Ticketbuchung über reservix!
URL:https://naturtheater-groetzingen.de/event/der-zauberer-von-oz-18/
LOCATION:Naturtheater Grötzingen\, Alte Poststr. 18\, Aichtal Grötzingen\, 72631
CATEGORIES:Aufführungen des Naturtheaters,Theater
ATTACH;FMTTYPE=image/jpeg:https://naturtheater-groetzingen.de/wp-content/uploads/2026/02/2025_11_titel_Oz_v2.jpg
ORGANIZER;CN="Naturtheater Gr%C3%B6tzingen e. V.":MAILTO:info@naturtheater-groetzingen.de
END:VEVENT
END:VCALENDAR